Package: GSE13015 Version: 1.17.0 Command: /home/biocbuild/bbs-3.22-bioc/R/bin/R CMD INSTALL GSE13015 StartedAt: 2025-04-24 10:58:34 -0400 (Thu, 24 Apr 2025) EndedAt: 2025-04-24 10:58:49 -0400 (Thu, 24 Apr 2025) EllapsedTime: 15.3 seconds RetCode: 0 Status: OK