Package: GSE13015 Version: 1.17.0 Command: /home/biocbuild/bbs-3.22-bioc/R/bin/R CMD check --install=check:GSE13015.install-out.txt --library=/home/biocbuild/bbs-3.22-bioc/R/site-library --timings GSE13015_1.17.0.tar.gz StartedAt: 2025-04-24 12:10:11 -0400 (Thu, 24 Apr 2025) EndedAt: 2025-04-24 12:11:23 -0400 (Thu, 24 Apr 2025) EllapsedTime: 71.6 seconds RetCode: 0 Status: OK CheckDir: GSE13015.Rcheck Warnings: 0