Package: GSE13015 Version: 1.17.0 Command: /home/biocbuild/bbs-3.22-bioc/R/bin/R CMD build --keep-empty-dirs --no-resave-data GSE13015 StartedAt: 2025-04-24 11:20:08 -0400 (Thu, 24 Apr 2025) EndedAt: 2025-04-24 11:20:38 -0400 (Thu, 24 Apr 2025) EllapsedTime: 29.8 seconds RetCode: 0 Status: OK PackageFile: GSE13015_1.17.0.tar.gz PackageFileSize: 218.5 KiB