Package: GSE103322 Version: 1.15.0 Command: /home/biocbuild/bbs-3.22-bioc/R/bin/R CMD INSTALL GSE103322 StartedAt: 2025-04-29 10:58:55 -0400 (Tue, 29 Apr 2025) EndedAt: 2025-04-29 10:59:10 -0400 (Tue, 29 Apr 2025) EllapsedTime: 15.6 seconds RetCode: 0 Status: OK