Package: GSE103322 Version: 1.15.0 Command: /home/biocbuild/bbs-3.22-bioc/R/bin/R CMD build --keep-empty-dirs --no-resave-data GSE103322 StartedAt: 2025-04-29 11:21:34 -0400 (Tue, 29 Apr 2025) EndedAt: 2025-04-29 11:22:11 -0400 (Tue, 29 Apr 2025) EllapsedTime: 37.2 seconds RetCode: 0 Status: OK PackageFile: GSE103322_1.15.0.tar.gz PackageFileSize: 218.7 KiB