Package: GSE103322 Version: 1.15.0 Maintainer: Mariano Alvarez MaintainerEmail: reef103 at gmail.com git_url: https://git.bioconductor.org/packages/GSE103322 git_branch: devel git_last_commit: b8d7c18 git_last_commit_date: 2025-04-15 10:21:24 -0400 (Tue, 15 Apr 2025)