Package: FANTOM3and4CAGE Version: 1.45.0 Command: /home/biocbuild/bbs-3.22-bioc/R/bin/R CMD check --install=check:FANTOM3and4CAGE.install-out.txt --library=/home/biocbuild/bbs-3.22-bioc/R/site-library --timings FANTOM3and4CAGE_1.45.0.tar.gz StartedAt: 2025-04-24 12:05:30 -0400 (Thu, 24 Apr 2025) EndedAt: 2025-04-24 12:06:44 -0400 (Thu, 24 Apr 2025) EllapsedTime: 73.4 seconds RetCode: 0 Status: OK CheckDir: FANTOM3and4CAGE.Rcheck Warnings: 0