Package: ELMER.data Version: 2.33.0 Maintainer: Tiago Chedraoui Silva MaintainerEmail: tiagochst at gmail.com git_url: https://git.bioconductor.org/packages/ELMER.data git_branch: devel git_last_commit: 3b22ede git_last_commit_date: 2025-04-15 10:02:03 -0400 (Tue, 15 Apr 2025)