Package: DMRcatedata Version: 2.27.0 Command: /home/biocbuild/bbs-3.22-bioc/R/bin/R CMD INSTALL DMRcatedata StartedAt: 2025-04-29 11:04:19 -0400 (Tue, 29 Apr 2025) EndedAt: 2025-04-29 11:05:00 -0400 (Tue, 29 Apr 2025) EllapsedTime: 41.5 seconds RetCode: 0 Status: OK