Package: DMRcatedata Version: 2.27.0 Maintainer: Tim Peters MaintainerEmail: t.peters at garvan.org.au git_url: https://git.bioconductor.org/packages/DMRcatedata git_branch: devel git_last_commit: 3d41481 git_last_commit_date: 2025-04-15 09:54:27 -0400 (Tue, 15 Apr 2025)