Package: DLBCL Version: 1.49.0 Command: /home/biocbuild/bbs-3.22-bioc/R/bin/R CMD INSTALL DLBCL StartedAt: 2025-04-29 10:56:36 -0400 (Tue, 29 Apr 2025) EndedAt: 2025-04-29 10:56:41 -0400 (Tue, 29 Apr 2025) EllapsedTime: 5.0 seconds RetCode: 0 Status: OK