Package: DLBCL Version: 1.49.0 Command: /home/biocbuild/bbs-3.22-bioc/R/bin/R CMD check --install=check:DLBCL.install-out.txt --library=/home/biocbuild/bbs-3.22-bioc/R/site-library --timings DLBCL_1.49.0.tar.gz StartedAt: 2025-04-29 12:02:41 -0400 (Tue, 29 Apr 2025) EndedAt: 2025-04-29 12:03:09 -0400 (Tue, 29 Apr 2025) EllapsedTime: 28.3 seconds RetCode: 0 Status: WARNINGS CheckDir: DLBCL.Rcheck Warnings: 1