Package: DLBCL Version: 1.49.0 Command: /home/biocbuild/bbs-3.22-bioc/R/bin/R CMD build --keep-empty-dirs --no-resave-data DLBCL StartedAt: 2025-04-29 11:15:51 -0400 (Tue, 29 Apr 2025) EndedAt: 2025-04-29 11:15:56 -0400 (Tue, 29 Apr 2025) EllapsedTime: 4.9 seconds RetCode: 0 Status: OK PackageFile: DLBCL_1.49.0.tar.gz PackageFileSize: 5.525 MiB