Package: DLBCL Version: 1.49.0 Maintainer: Marcus Dittrich MaintainerEmail: marcus.dittrich at biozentrum.uni-wuerzburg.de git_url: https://git.bioconductor.org/packages/DLBCL git_branch: devel git_last_commit: 98f0bc8 git_last_commit_date: 2025-04-15 10:24:01 -0400 (Tue, 15 Apr 2025)