Package: CoSIAdata Version: 1.9.0 Command: /home/biocbuild/bbs-3.22-bioc/R/bin/R CMD build --keep-empty-dirs --no-resave-data CoSIAdata StartedAt: 2025-04-24 11:11:14 -0400 (Thu, 24 Apr 2025) EndedAt: 2025-04-24 11:11:38 -0400 (Thu, 24 Apr 2025) EllapsedTime: 24.1 seconds RetCode: 0 Status: OK PackageFile: CoSIAdata_1.9.0.tar.gz PackageFileSize: 296.4 KiB