Package: CoSIAdata Version: 1.9.0 Maintainer: Amanda D. Clark MaintainerEmail: amanda at freshairfamily.org git_url: https://git.bioconductor.org/packages/CoSIAdata git_branch: devel git_last_commit: d024fa8 git_last_commit_date: 2025-04-15 10:24:42 -0400 (Tue, 15 Apr 2025)