Package: COPDSexualDimorphism.data Version: 1.45.0 Command: /home/biocbuild/bbs-3.22-bioc/R/bin/R CMD INSTALL COPDSexualDimorphism.data StartedAt: 2025-04-29 10:55:15 -0400 (Tue, 29 Apr 2025) EndedAt: 2025-04-29 10:55:17 -0400 (Tue, 29 Apr 2025) EllapsedTime: 1.8 seconds RetCode: 0 Status: OK