Package: COPDSexualDimorphism.data Version: 1.45.0 Command: /home/biocbuild/bbs-3.22-bioc/R/bin/R CMD check --install=check:COPDSexualDimorphism.data.install-out.txt --library=/home/biocbuild/bbs-3.22-bioc/R/site-library --timings COPDSexualDimorphism.data_1.45.0.tar.gz StartedAt: 2025-04-29 11:56:34 -0400 (Tue, 29 Apr 2025) EndedAt: 2025-04-29 11:57:41 -0400 (Tue, 29 Apr 2025) EllapsedTime: 67.3 seconds RetCode: 0 Status: WARNINGS CheckDir: COPDSexualDimorphism.data.Rcheck Warnings: 1