Package: COPDSexualDimorphism.data Version: 1.45.0 Command: /home/biocbuild/bbs-3.22-bioc/R/bin/R CMD build --keep-empty-dirs --no-resave-data COPDSexualDimorphism.data StartedAt: 2025-04-29 11:11:47 -0400 (Tue, 29 Apr 2025) EndedAt: 2025-04-29 11:11:54 -0400 (Tue, 29 Apr 2025) EllapsedTime: 7.0 seconds RetCode: 0 Status: OK PackageFile: COPDSexualDimorphism.data_1.45.0.tar.gz PackageFileSize: 34.3 MiB