Package: ASICSdata Version: 1.29.0 Maintainer: Gaƫlle Lefort MaintainerEmail: gaelle.lefort at inra.fr git_url: https://git.bioconductor.org/packages/ASICSdata git_branch: devel git_last_commit: 6bfd29d git_last_commit_date: 2025-04-15 10:11:17 -0400 (Tue, 15 Apr 2025)