Package: xcms Version: 4.7.0 Maintainer: Steffen Neumann MaintainerEmail: sneumann@ipb-halle.de Package: GenomicFeatures Version: 1.61.0 Maintainer: H. Pagès MaintainerEmail: hpages.on.github@gmail.com Package: rhdf5 Version: 2.53.0 Maintainer: Mike Smith MaintainerEmail: mike.smith@embl.de Package: HDF5Array Version: 1.37.0 Maintainer: Hervé Pagès MaintainerEmail: hpages.on.github@gmail.com Package: clusterExperiment Version: 2.29.0 Maintainer: Elizabeth Purdom MaintainerEmail: epurdom@stat.berkeley.edu Package: beachmat Version: 2.25.0 Maintainer: Aaron Lun MaintainerEmail: infinite.monkeys.with.keyboards@gmail.com Package: DelayedMatrixStats Version: 1.31.0 Maintainer: Peter Hickey MaintainerEmail: peter.hickey@gmail.com Package: DropletUtils Version: 1.29.0 Maintainer: Jonathan Griffiths MaintainerEmail: jonathan.griffiths.94@gmail.com Package: APAlyzer Version: 1.23.0 Maintainer: Ruijia Wang MaintainerEmail: rjwang.bioinfo@gmail.com Package: basilisk Version: 1.21.0 Maintainer: Aaron Lun MaintainerEmail: infinite.monkeys.with.keyboards@gmail.com Package: cBioPortalData Version: 2.21.0 Maintainer: Marcel Ramos MaintainerEmail: marcel.ramos@sph.cuny.edu Package: zellkonverter Version: 1.19.0 Maintainer: Luke Zappia MaintainerEmail: luke@lazappi.id.au Package: ChromSCape Version: 1.19.0 Maintainer: Pacome Prompsy MaintainerEmail: pacome.prompsy@curie.fr Package: midasHLA Version: 1.17.0 Maintainer: Maciej Migdał MaintainerEmail: mcjmigdal@gmail.com Package: autonomics Version: 1.17.0 Maintainer: Aditya Bhagwat MaintainerEmail: aditya.bhagwat@uni-marburg.de Package: MungeSumstats Version: 1.17.0 Maintainer: Alan Murphy MaintainerEmail: alanmurph94@hotmail.com Package: biodb Version: 1.17.0 Maintainer: Pierrick Roger MaintainerEmail: pierrick.roger@cea.fr Package: biodbChebi Version: 1.15.0 Maintainer: Pierrick Roger MaintainerEmail: pierrick.roger@cea.fr Package: biodbUniprot Version: 1.15.0 Maintainer: Pierrick Roger MaintainerEmail: pierrick.roger@cea.fr Package: biodbHmdb Version: 1.15.0 Maintainer: Pierrick Roger MaintainerEmail: pierrick.roger@cea.fr Package: crisprScore Version: 1.13.0 Maintainer: Jean-Philippe Fortin MaintainerEmail: fortin946@gmail.com UnsupportedPlatforms: win32 Package: biodbNci Version: 1.13.0 Maintainer: Pierrick Roger MaintainerEmail: pierrick.roger@cea.fr Package: biodbNcbi Version: 1.13.0 Maintainer: Pierrick Roger MaintainerEmail: pierrick.roger@cea.fr Package: extraChIPs Version: 1.13.0 Maintainer: Stevie Pederson MaintainerEmail: stephen.pederson.au@gmail.com Package: EpiMix Version: 1.11.0 Maintainer: Yuanning Zheng MaintainerEmail: eric2021@stanford.edu Package: SimBu Version: 1.11.0 Maintainer: Alexander Dietrich MaintainerEmail: alex.dietrich@tum.de Package: TENxIO Version: 1.11.0 Maintainer: Marcel Ramos MaintainerEmail: marcel.ramos@sph.cuny.edu Package: CRISPRball Version: 1.5.0 Maintainer: Jared Andrews MaintainerEmail: jared.andrews07@gmail.com Package: ginmappeR Version: 1.5.0 Maintainer: Fernando Sola MaintainerEmail: fsola@us.es Package: mosdef Version: 1.5.0 Maintainer: Federico Marini MaintainerEmail: marinif@uni-mainz.de