Package: methylationArrayAnalysis Version: 1.32.0 Command: /home/biocbuild/bbs-3.21-bioc/R/bin/R CMD INSTALL methylationArrayAnalysis StartedAt: 2025-04-29 13:00:43 -0400 (Tue, 29 Apr 2025) EndedAt: 2025-04-29 13:04:02 -0400 (Tue, 29 Apr 2025) EllapsedTime: 199.0 seconds RetCode: 0 Status: OK