Package: methylationArrayAnalysis Version: 1.32.0 Command: /home/biocbuild/bbs-3.21-bioc/R/bin/R CMD build --keep-empty-dirs --no-resave-data methylationArrayAnalysis StartedAt: 2025-04-29 13:06:00 -0400 (Tue, 29 Apr 2025) EndedAt: 2025-04-29 13:14:13 -0400 (Tue, 29 Apr 2025) EllapsedTime: 492.9 seconds RetCode: 1 Status: ERROR PackageFile: None PackageFileSize: NA