Package: methylationArrayAnalysis Version: 1.32.0 Command: /Library/Frameworks/R.framework/Resources/bin/R CMD INSTALL methylationArrayAnalysis StartedAt: 2025-04-22 13:00:47 -0400 (Tue, 22 Apr 2025) EndedAt: 2025-04-22 13:03:25 -0400 (Tue, 22 Apr 2025) EllapsedTime: 158.3 seconds RetCode: 0 Status: OK