Package: methylationArrayAnalysis Version: 1.32.0 Command: /Library/Frameworks/R.framework/Resources/bin/R CMD build --keep-empty-dirs --no-resave-data methylationArrayAnalysis StartedAt: 2025-04-22 13:05:03 -0400 (Tue, 22 Apr 2025) EndedAt: 2025-04-22 13:12:22 -0400 (Tue, 22 Apr 2025) EllapsedTime: 438.7 seconds RetCode: 1 Status: ERROR PackageFile: None PackageFileSize: NA