Package: GeoMxWorkflows Version: 1.14.0 Command: /Library/Frameworks/R.framework/Resources/bin/R CMD INSTALL GeoMxWorkflows StartedAt: 2025-04-22 13:00:22 -0400 (Tue, 22 Apr 2025) EndedAt: 2025-04-22 13:00:37 -0400 (Tue, 22 Apr 2025) EllapsedTime: 15.0 seconds RetCode: 0 Status: OK