Package: GeoMxWorkflows Version: 1.14.0 Command: /Library/Frameworks/R.framework/Resources/bin/R CMD build --keep-empty-dirs --no-resave-data GeoMxWorkflows StartedAt: 2025-04-22 13:03:53 -0400 (Tue, 22 Apr 2025) EndedAt: 2025-04-22 13:06:35 -0400 (Tue, 22 Apr 2025) EllapsedTime: 162.9 seconds RetCode: 1 Status: ERROR PackageFile: None PackageFileSize: NA