Package: pumadata Version: 2.44.0 Command: /home/biocbuild/bbs-3.21-bioc/R/bin/R CMD check --install=check:pumadata.install-out.txt --library=/home/biocbuild/bbs-3.21-bioc/R/site-library --timings pumadata_2.44.0.tar.gz StartedAt: 2025-04-24 12:33:35 -0400 (Thu, 24 Apr 2025) EndedAt: 2025-04-24 12:37:01 -0400 (Thu, 24 Apr 2025) EllapsedTime: 205.5 seconds RetCode: 0 Status: OK CheckDir: pumadata.Rcheck Warnings: 0