Package: nullrangesData Version: 1.14.0 Command: /home/biocbuild/bbs-3.21-bioc/R/bin/R CMD INSTALL nullrangesData StartedAt: 2025-04-24 10:58:16 -0400 (Thu, 24 Apr 2025) EndedAt: 2025-04-24 10:58:46 -0400 (Thu, 24 Apr 2025) EllapsedTime: 29.3 seconds RetCode: 0 Status: OK