Package: flowPloidyData Version: 1.34.0 Maintainer: Tyler Smith MaintainerEmail: tyler at plantarum.ca git_url: https://git.bioconductor.org/packages/flowPloidyData git_branch: RELEASE_3_21 git_last_commit: bad1340 git_last_commit_date: 2025-04-15 10:08:56 -0400 (Tue, 15 Apr 2025)