Package: curatedTCGAData Version: 1.30.0 Maintainer: Marcel Ramos MaintainerEmail: marcel.ramos at roswellpark.org git_url: https://git.bioconductor.org/packages/curatedTCGAData git_branch: RELEASE_3_21 git_last_commit: 2bb3b33 git_last_commit_date: 2025-04-15 10:09:57 -0400 (Tue, 15 Apr 2025)