Package: curatedPCaData Version: 1.4.0 Command: /home/biocbuild/bbs-3.21-bioc/R/bin/R CMD check --install=check:curatedPCaData.install-out.txt --library=/home/biocbuild/bbs-3.21-bioc/R/site-library --timings curatedPCaData_1.4.0.tar.gz StartedAt: 2025-04-24 11:56:39 -0400 (Thu, 24 Apr 2025) EndedAt: 2025-04-24 12:20:23 -0400 (Thu, 24 Apr 2025) EllapsedTime: 1423.8 seconds RetCode: 0 Status: OK CheckDir: curatedPCaData.Rcheck Warnings: 0