Package: curatedPCaData Version: 1.4.0 Command: /home/biocbuild/bbs-3.21-bioc/R/bin/R CMD build --keep-empty-dirs --no-resave-data curatedPCaData StartedAt: 2025-04-24 11:12:30 -0400 (Thu, 24 Apr 2025) EndedAt: 2025-04-24 11:19:05 -0400 (Thu, 24 Apr 2025) EllapsedTime: 395.1 seconds RetCode: 0 Status: OK PackageFile: curatedPCaData_1.4.0.tar.gz PackageFileSize: 2.937 MiB