Package: WES.1KG.WUGSC Version: 1.40.0 Maintainer: Yuchao Jiang MaintainerEmail: yuchaoj at wharton.upenn.edu git_url: https://git.bioconductor.org/packages/WES.1KG.WUGSC git_branch: RELEASE_3_21 git_last_commit: 2a03e4e git_last_commit_date: 2025-04-15 09:59:17 -0400 (Tue, 15 Apr 2025)