Package: RRBSdata Version: 1.28.0 Maintainer: Katja Hebestreit MaintainerEmail: katja.hebestreit at gmail.com git_url: https://git.bioconductor.org/packages/RRBSdata git_branch: RELEASE_3_21 git_last_commit: 77bb5d5 git_last_commit_date: 2025-04-15 09:59:02 -0400 (Tue, 15 Apr 2025)