Package: MicrobiomeBenchmarkData Version: 1.10.0 Command: /home/biocbuild/bbs-3.21-bioc/R/bin/R CMD check --install=check:MicrobiomeBenchmarkData.install-out.txt --library=/home/biocbuild/bbs-3.21-bioc/R/site-library --timings MicrobiomeBenchmarkData_1.10.0.tar.gz StartedAt: 2025-04-24 12:22:37 -0400 (Thu, 24 Apr 2025) EndedAt: 2025-04-24 12:27:36 -0400 (Thu, 24 Apr 2025) EllapsedTime: 299.3 seconds RetCode: 0 Status: OK CheckDir: MicrobiomeBenchmarkData.Rcheck Warnings: 0