Package: MicrobiomeBenchmarkData Version: 1.10.0 Command: /home/biocbuild/bbs-3.21-bioc/R/bin/R CMD build --keep-empty-dirs --no-resave-data MicrobiomeBenchmarkData StartedAt: 2025-04-24 11:29:29 -0400 (Thu, 24 Apr 2025) EndedAt: 2025-04-24 11:30:30 -0400 (Thu, 24 Apr 2025) EllapsedTime: 60.6 seconds RetCode: 0 Status: OK PackageFile: MicrobiomeBenchmarkData_1.10.0.tar.gz PackageFileSize: 712.4 KiB