Package: MicrobiomeBenchmarkData Version: 1.10.0 Maintainer: Samuel Gamboa MaintainerEmail: Samuel.Gamboa.Tuz at gmail.com git_url: https://git.bioconductor.org/packages/MicrobiomeBenchmarkData git_branch: RELEASE_3_21 git_last_commit: 615e057 git_last_commit_date: 2025-04-15 10:23:01 -0400 (Tue, 15 Apr 2025)