Package: HiContactsData Version: 1.10.0 Command: /home/biocbuild/bbs-3.21-bioc/R/bin/R CMD INSTALL HiContactsData StartedAt: 2025-05-01 10:57:12 -0400 (Thu, 01 May 2025) EndedAt: 2025-05-01 10:57:25 -0400 (Thu, 01 May 2025) EllapsedTime: 13.0 seconds RetCode: 0 Status: OK