Package: FieldEffectCrc Version: 1.18.0 Command: /home/biocbuild/bbs-3.21-bioc/R/bin/R CMD INSTALL FieldEffectCrc StartedAt: 2025-05-01 11:00:12 -0400 (Thu, 01 May 2025) EndedAt: 2025-05-01 11:00:41 -0400 (Thu, 01 May 2025) EllapsedTime: 28.3 seconds RetCode: 0 Status: OK