Package: DuoClustering2018 Version: 1.26.0 Command: /home/biocbuild/bbs-3.21-bioc/R/bin/R CMD build --keep-empty-dirs --no-resave-data DuoClustering2018 StartedAt: 2025-04-24 11:15:38 -0400 (Thu, 24 Apr 2025) EndedAt: 2025-04-24 11:17:15 -0400 (Thu, 24 Apr 2025) EllapsedTime: 96.2 seconds RetCode: 0 Status: OK PackageFile: DuoClustering2018_1.26.0.tar.gz PackageFileSize: 2.209 MiB