Package: CRCL18 Version: 1.28.0 Command: /home/biocbuild/bbs-3.21-bioc/R/bin/R CMD INSTALL CRCL18 StartedAt: 2025-04-24 10:56:35 -0400 (Thu, 24 Apr 2025) EndedAt: 2025-04-24 10:56:38 -0400 (Thu, 24 Apr 2025) EllapsedTime: 2.9 seconds RetCode: 0 Status: OK