Package: BloodCancerMultiOmics2017 Version: 1.28.0 Command: /home/biocbuild/bbs-3.21-bioc/R/bin/R CMD check --install=check:BloodCancerMultiOmics2017.install-out.txt --library=/home/biocbuild/bbs-3.21-bioc/R/site-library --timings BloodCancerMultiOmics2017_1.28.0.tar.gz StartedAt: 2025-04-24 11:47:59 -0400 (Thu, 24 Apr 2025) EndedAt: 2025-04-24 12:20:33 -0400 (Thu, 24 Apr 2025) EllapsedTime: 1954.0 seconds RetCode: 0 Status: WARNINGS CheckDir: BloodCancerMultiOmics2017.Rcheck Warnings: 1