Back to --- experimental! ---
GPU-enabled build/check report for BioC 3.21
Report updated every hour

This page was generated on 2025-04-30 12:35 -0400 (Wed, 30 Apr 2025).

R packages installed on kakapo1


             LibPath                                          Version Built
base64enc    /home/biocbuild/bbs-3.21-bioc-gpu/R/site-library 0.1-3   4.5.0
BiocGenerics /home/biocbuild/bbs-3.21-bioc-gpu/R/site-library 0.53.6  4.5.0
bslib        /home/biocbuild/bbs-3.21-bioc-gpu/R/site-library 0.9.0   4.5.0
cachem       /home/biocbuild/bbs-3.21-bioc-gpu/R/site-library 1.1.0   4.5.0
cli          /home/biocbuild/bbs-3.21-bioc-gpu/R/site-library 3.6.4   4.5.0
digest       /home/biocbuild/bbs-3.21-bioc-gpu/R/site-library 0.6.37  4.5.0
evaluate     /home/biocbuild/bbs-3.21-bioc-gpu/R/site-library 1.0.3   4.5.0
fastmap      /home/biocbuild/bbs-3.21-bioc-gpu/R/site-library 1.2.0   4.5.0
fontawesome  /home/biocbuild/bbs-3.21-bioc-gpu/R/site-library 0.5.3   4.5.0
fs           /home/biocbuild/bbs-3.21-bioc-gpu/R/site-library 1.6.5   4.5.0
generics     /home/biocbuild/bbs-3.21-bioc-gpu/R/site-library 0.1.3   4.5.0
glue         /home/biocbuild/bbs-3.21-bioc-gpu/R/site-library 1.8.0   4.5.0
highr        /home/biocbuild/bbs-3.21-bioc-gpu/R/site-library 0.11    4.5.0
htmltools    /home/biocbuild/bbs-3.21-bioc-gpu/R/site-library 0.5.8.1 4.5.0
jquerylib    /home/biocbuild/bbs-3.21-bioc-gpu/R/site-library 0.1.4   4.5.0
jsonlite     /home/biocbuild/bbs-3.21-bioc-gpu/R/site-library 1.9.0   4.5.0
knitr        /home/biocbuild/bbs-3.21-bioc-gpu/R/site-library 1.49    4.5.0
lifecycle    /home/biocbuild/bbs-3.21-bioc-gpu/R/site-library 1.0.4   4.5.0
memoise      /home/biocbuild/bbs-3.21-bioc-gpu/R/site-library 2.0.1   4.5.0
mime         /home/biocbuild/bbs-3.21-bioc-gpu/R/site-library 0.12    4.5.0
R6           /home/biocbuild/bbs-3.21-bioc-gpu/R/site-library 2.6.1   4.5.0
rappdirs     /home/biocbuild/bbs-3.21-bioc-gpu/R/site-library 0.3.3   4.5.0
RbowtieCuda  /home/biocbuild/bbs-3.21-bioc-gpu/R/site-library 1.0.1   4.5.0
rlang        /home/biocbuild/bbs-3.21-bioc-gpu/R/site-library 1.1.5   4.5.0
rmarkdown    /home/biocbuild/bbs-3.21-bioc-gpu/R/site-library 2.29    4.5.0
RUnit        /home/biocbuild/bbs-3.21-bioc-gpu/R/site-library 0.4.33  4.5.0
sass         /home/biocbuild/bbs-3.21-bioc-gpu/R/site-library 0.4.9   4.5.0
tinytex      /home/biocbuild/bbs-3.21-bioc-gpu/R/site-library 0.56    4.5.0
xfun         /home/biocbuild/bbs-3.21-bioc-gpu/R/site-library 0.51    4.5.0
yaml         /home/biocbuild/bbs-3.21-bioc-gpu/R/site-library 2.3.10  4.5.0
base         /home/biocbuild/bbs-3.21-bioc-gpu/R/library      4.5.0   4.5.0
boot         /home/biocbuild/bbs-3.21-bioc-gpu/R/library      1.3-31  4.5.0
class        /home/biocbuild/bbs-3.21-bioc-gpu/R/library      7.3-23  4.5.0
cluster      /home/biocbuild/bbs-3.21-bioc-gpu/R/library      2.1.8   4.5.0
codetools    /home/biocbuild/bbs-3.21-bioc-gpu/R/library      0.2-20  4.5.0
compiler     /home/biocbuild/bbs-3.21-bioc-gpu/R/library      4.5.0   4.5.0
datasets     /home/biocbuild/bbs-3.21-bioc-gpu/R/library      4.5.0   4.5.0
foreign      /home/biocbuild/bbs-3.21-bioc-gpu/R/library      0.8-88  4.5.0
graphics     /home/biocbuild/bbs-3.21-bioc-gpu/R/library      4.5.0   4.5.0
grDevices    /home/biocbuild/bbs-3.21-bioc-gpu/R/library      4.5.0   4.5.0
grid         /home/biocbuild/bbs-3.21-bioc-gpu/R/library      4.5.0   4.5.0
KernSmooth   /home/biocbuild/bbs-3.21-bioc-gpu/R/library      2.23-26 4.5.0
lattice      /home/biocbuild/bbs-3.21-bioc-gpu/R/library      0.22-6  4.5.0
MASS         /home/biocbuild/bbs-3.21-bioc-gpu/R/library      7.3-64  4.5.0
Matrix       /home/biocbuild/bbs-3.21-bioc-gpu/R/library      1.7-2   4.5.0
methods      /home/biocbuild/bbs-3.21-bioc-gpu/R/library      4.5.0   4.5.0
mgcv         /home/biocbuild/bbs-3.21-bioc-gpu/R/library      1.9-1   4.5.0
nlme         /home/biocbuild/bbs-3.21-bioc-gpu/R/library      3.1-167 4.5.0
nnet         /home/biocbuild/bbs-3.21-bioc-gpu/R/library      7.3-20  4.5.0
parallel     /home/biocbuild/bbs-3.21-bioc-gpu/R/library      4.5.0   4.5.0
rpart        /home/biocbuild/bbs-3.21-bioc-gpu/R/library      4.1.24  4.5.0
spatial      /home/biocbuild/bbs-3.21-bioc-gpu/R/library      7.3-18  4.5.0
splines      /home/biocbuild/bbs-3.21-bioc-gpu/R/library      4.5.0   4.5.0
stats        /home/biocbuild/bbs-3.21-bioc-gpu/R/library      4.5.0   4.5.0
stats4       /home/biocbuild/bbs-3.21-bioc-gpu/R/library      4.5.0   4.5.0
survival     /home/biocbuild/bbs-3.21-bioc-gpu/R/library      3.8-3   4.5.0
tcltk        /home/biocbuild/bbs-3.21-bioc-gpu/R/library      4.5.0   4.5.0
tools        /home/biocbuild/bbs-3.21-bioc-gpu/R/library      4.5.0   4.5.0
utils        /home/biocbuild/bbs-3.21-bioc-gpu/R/library      4.5.0   4.5.0