Package: tidySummarizedExperiment Version: 1.18.0 Maintainer: Stefano Mangiola MaintainerEmail: mangiolastefano at gmail.com git_url: https://git.bioconductor.org/packages/tidySummarizedExperiment git_branch: RELEASE_3_21 git_last_commit: 8518c52 git_last_commit_date: 2025-04-15 12:13:53 -0400 (Tue, 15 Apr 2025)