Package: tidySpatialExperiment Version: 1.4.0 Maintainer: William Hutchison MaintainerEmail: hutchison.w at wehi.edu.au git_url: https://git.bioconductor.org/packages/tidySpatialExperiment git_branch: RELEASE_3_21 git_last_commit: b6c1335 git_last_commit_date: 2025-04-15 13:27:14 -0400 (Tue, 15 Apr 2025)