Package: tidyCoverage Version: 1.4.0 Command: E:\biocbuild\bbs-3.21-bioc\R\bin\R.exe CMD INSTALL tidyCoverage StartedAt: 2025-04-24 17:36:28 -0400 (Thu, 24 Apr 2025) EndedAt: 2025-04-24 17:37:23 -0400 (Thu, 24 Apr 2025) EllapsedTime: 54.9 seconds RetCode: 0 Status: OK