Package: tidyCoverage Version: 1.4.0 Command: E:\biocbuild\bbs-3.21-bioc\R\bin\R.exe CMD check --no-multiarch --install=check:tidyCoverage.install-out.txt --library=E:\biocbuild\bbs-3.21-bioc\R\library --no-vignettes --timings tidyCoverage_1.4.0.tar.gz StartedAt: 2025-04-25 08:51:42 -0400 (Fri, 25 Apr 2025) EndedAt: 2025-04-25 09:16:15 -0400 (Fri, 25 Apr 2025) EllapsedTime: 1473.0 seconds RetCode: 0 Status: OK CheckDir: tidyCoverage.Rcheck Warnings: 0