Package: tidyCoverage Version: 1.4.0 Command: chmod a+r tidyCoverage -R && E:\biocbuild\bbs-3.21-bioc\R\bin\R.exe CMD build --keep-empty-dirs --no-resave-data tidyCoverage StartedAt: 2025-04-25 00:04:02 -0400 (Fri, 25 Apr 2025) EndedAt: 2025-04-25 00:11:23 -0400 (Fri, 25 Apr 2025) EllapsedTime: 441.2 seconds RetCode: 0 Status: OK PackageFile: tidyCoverage_1.4.0.tar.gz PackageFileSize: 3.758 MiB