Package: tidyCoverage Version: 1.4.0 Command: rm -rf tidyCoverage.buildbin-libdir && mkdir tidyCoverage.buildbin-libdir && E:\biocbuild\bbs-3.21-bioc\R\bin\R.exe CMD INSTALL --build --library=tidyCoverage.buildbin-libdir tidyCoverage_1.4.0.tar.gz StartedAt: 2025-04-25 11:35:30 -0400 (Fri, 25 Apr 2025) EndedAt: 2025-04-25 11:36:28 -0400 (Fri, 25 Apr 2025) EllapsedTime: 58.6 seconds RetCode: 0 Status: OK PackageFile: tidyCoverage_1.4.0.zip PackageFileSize: 4.071 MiB